BEGIN:VCALENDAR
PRODID:-//Pixl8//Eventfolio//EN
VERSION:2.0
X-WR-TIMEZONE:America/Phoenix
CALSCALE:GREGORIAN
METHOD:PUBLISH
CLASS:PUBLIC
BEGIN:VTIMEZONE
TZID:America/Phoenix
LAST-MODIFIED:20260306T231828Z
TZURL:https://www.tzurl.org/zoneinfo-outlook/America/Phoenix
X-LIC-LOCATION:America/Phoenix
BEGIN:STANDARD
TZNAME:MST
TZOFFSETFROM:-0700
TZOFFSETTO:-0700
DTSTART:19700101T000000
END:STANDARD
END:VTIMEZONE
BEGIN:VEVENT
DTSTART;TZID=America/Phoenix;VALUE=DATE:20281030
DTEND;TZID=America/Phoenix;VALUE=DATE:20281103
DTSTAMP:20260421T194058Z
UID:{6D8A53FF-351E-48A0-A166185E874B8B60}
LOCATION:Phoenix Convention Center
SUMMARY:SETAC North America 49th Annual Meeting
DESCRIPTION:Event details: https://www.setac.org/discover-events/ems-event-calendar/setac-north-america-49th-annual-meeting.html
PRIORITY:1
END:VEVENT
END:VCALENDAR