BEGIN:VCALENDAR
PRODID:-//Pixl8//Eventfolio//EN
VERSION:2.0
X-WR-TIMEZONE:America/Detroit
CALSCALE:GREGORIAN
METHOD:PUBLISH
CLASS:PUBLIC
BEGIN:VTIMEZONE
TZID:America/Detroit
LAST-MODIFIED:20260306T231828Z
TZURL:https://www.tzurl.org/zoneinfo-outlook/America/Detroit
X-LIC-LOCATION:America/Detroit
BEGIN:DAYLIGHT
TZNAME:EDT
TZOFFSETFROM:-0500
TZOFFSETTO:-0400
DTSTART:19700308T020000
RRULE:FREQ=YEARLY;BYMONTH=3;BYDAY=2SU
END:DAYLIGHT
BEGIN:STANDARD
TZNAME:EST
TZOFFSETFROM:-0400
TZOFFSETTO:-0500
DTSTART:19701101T020000
RRULE:FREQ=YEARLY;BYMONTH=11;BYDAY=1SU
END:STANDARD
END:VTIMEZONE
BEGIN:VEVENT
DTSTART;TZID=America/Detroit:20260804T120000
DTEND;TZID=America/Detroit:20260804T230000
DTSTAMP:20260423T000814Z
UID:{D759D920-9691-4897-87F18ACDF7D587A7.46238}
LOCATION:University of South Carolina
SUMMARY:SETAC 14th Young Environmental Scientists Meeting
DESCRIPTION:Event details: https://www.setac.org/discover-events/ems-event-calendar/setac-14th-young-environmental-scientists-meeting.html
PRIORITY:1
END:VEVENT
BEGIN:VEVENT
DTSTART;TZID=America/Detroit:20260805T090000
DTEND;TZID=America/Detroit:20260805T230000
DTSTAMP:20260423T000814Z
UID:{D759D920-9691-4897-87F18ACDF7D587A7.46239}
LOCATION:University of South Carolina
SUMMARY:SETAC 14th Young Environmental Scientists Meeting
DESCRIPTION:Event details: https://www.setac.org/discover-events/ems-event-calendar/setac-14th-young-environmental-scientists-meeting.html
PRIORITY:1
END:VEVENT
END:VCALENDAR