BEGIN:VCALENDAR
PRODID:-//Pixl8//Eventfolio//EN
VERSION:2.0
X-WR-TIMEZONE:America/North_Dakota/Center
CALSCALE:GREGORIAN
METHOD:PUBLISH
CLASS:PUBLIC
BEGIN:VTIMEZONE
TZID:America/North_Dakota/Center
LAST-MODIFIED:20260306T231828Z
TZURL:https://www.tzurl.org/zoneinfo-outlook/America/North_Dakota/Center
X-LIC-LOCATION:America/North_Dakota/Center
BEGIN:DAYLIGHT
TZNAME:CDT
TZOFFSETFROM:-0600
TZOFFSETTO:-0500
DTSTART:19700308T020000
RRULE:FREQ=YEARLY;BYMONTH=3;BYDAY=2SU
END:DAYLIGHT
BEGIN:STANDARD
TZNAME:CST
TZOFFSETFROM:-0500
TZOFFSETTO:-0600
DTSTART:19701101T020000
RRULE:FREQ=YEARLY;BYMONTH=11;BYDAY=1SU
END:STANDARD
END:VTIMEZONE
BEGIN:VEVENT
DTSTART;TZID=America/North_Dakota/Center;VALUE=DATE:20250512
DTEND;TZID=America/North_Dakota/Center;VALUE=DATE:20250514
DTSTAMP:20260420T141540Z
UID:{7B80DD13-4896-424E-A781A55630006719}
LOCATION:Bayer Crop Science
SUMMARY:Ozark‐Prairie and Mid‐South Joint Chapter Meeting
DESCRIPTION:Event details: https://www.setac.org/discover-events/ems-event-calendar/ozark-prairie-and-mid-south-joint-chapter-meeting.html
PRIORITY:1
END:VEVENT
END:VCALENDAR