BEGIN:VCALENDAR
PRODID:-//Pixl8//Eventfolio//EN
VERSION:2.0
X-WR-TIMEZONE:America/New_York
CALSCALE:GREGORIAN
METHOD:PUBLISH
CLASS:PUBLIC
BEGIN:VTIMEZONE
TZID:America/New_York
LAST-MODIFIED:20260306T231828Z
TZURL:https://www.tzurl.org/zoneinfo-outlook/America/New_York
X-LIC-LOCATION:America/New_York
BEGIN:DAYLIGHT
TZNAME:EDT
TZOFFSETFROM:-0500
TZOFFSETTO:-0400
DTSTART:19700308T020000
RRULE:FREQ=YEARLY;BYMONTH=3;BYDAY=2SU
END:DAYLIGHT
BEGIN:STANDARD
TZNAME:EST
TZOFFSETFROM:-0400
TZOFFSETTO:-0500
DTSTART:19701101T020000
RRULE:FREQ=YEARLY;BYMONTH=11;BYDAY=1SU
END:STANDARD
END:VTIMEZONE
BEGIN:VEVENT
DTSTART;TZID=America/New_York:20260224T100000
DTEND;TZID=America/New_York:20260224T110000
DTSTAMP:20260420T173612Z
UID:{F6880021-E13D-411E-88D6F74DD6AACFEB}
LOCATION:
SUMMARY:Eco-Transcriptomics Data Usability: Recommended Minimum Reporting Information
DESCRIPTION:Event details: https://www.setac.org/discover-events/ems-event-calendar/eco-transcriptomics-data-usability-recommended-minimum-reporting-information.html
PRIORITY:1
END:VEVENT
END:VCALENDAR